BEGIN:VCALENDAR
VERSION:2.0
PRODID:-//Petra Perlenfein Karriereakademie Stuttgart - ECPv6.15.20//NONSGML v1.0//EN
CALSCALE:GREGORIAN
METHOD:PUBLISH
X-WR-CALNAME:Petra Perlenfein Karriereakademie Stuttgart
X-ORIGINAL-URL:https://perlenfein-karriereakademie.de
X-WR-CALDESC:Veranstaltungen für Petra Perlenfein Karriereakademie Stuttgart
REFRESH-INTERVAL;VALUE=DURATION:PT1H
X-Robots-Tag:noindex
X-PUBLISHED-TTL:PT1H
BEGIN:VTIMEZONE
TZID:Europe/Berlin
BEGIN:DAYLIGHT
TZOFFSETFROM:+0100
TZOFFSETTO:+0200
TZNAME:CEST
DTSTART:20240331T010000
END:DAYLIGHT
BEGIN:STANDARD
TZOFFSETFROM:+0200
TZOFFSETTO:+0100
TZNAME:CET
DTSTART:20241027T010000
END:STANDARD
BEGIN:DAYLIGHT
TZOFFSETFROM:+0100
TZOFFSETTO:+0200
TZNAME:CEST
DTSTART:20250330T010000
END:DAYLIGHT
BEGIN:STANDARD
TZOFFSETFROM:+0200
TZOFFSETTO:+0100
TZNAME:CET
DTSTART:20251026T010000
END:STANDARD
BEGIN:DAYLIGHT
TZOFFSETFROM:+0100
TZOFFSETTO:+0200
TZNAME:CEST
DTSTART:20260329T010000
END:DAYLIGHT
BEGIN:STANDARD
TZOFFSETFROM:+0200
TZOFFSETTO:+0100
TZNAME:CET
DTSTART:20261025T010000
END:STANDARD
END:VTIMEZONE
BEGIN:VEVENT
DTSTART;TZID=Europe/Berlin:20251010T170000
DTEND;TZID=Europe/Berlin:20251011T150000
DTSTAMP:20260420T203748
CREATED:20250107T133312Z
LAST-MODIFIED:20250107T133353Z
UID:3283-1760115600-1760194800@perlenfein-karriereakademie.de
SUMMARY:Wie finde ich schnell einen passenden Job?
DESCRIPTION:  \n\nSie beschäftigen sich mit einer beruflichen Neuorientierung?\nSie stehen vor einer beruflichen Veränderung?\nSie sind mit Ihrem alten Job nicht mehr zufrieden?\nSie sind Berufseinsteiger\, und wissen nicht\, wie Sie sich vermarkten sollen?\nSie wissen nicht\, welcher beruflicher Schritt als nächstes ansteht?\nSie sind unsicher\, ob Ihre Fähigkeiten für eine neue Stelle ausreichen?\n\nWenn Sie sich bei den Fragen wiederfinden\, sind Sie bei unserem Workshop „Wie finde ich schnell einen passenden Job“ richtig. \nMit den drei „W“ finden Sie eine neue berufliche Orientierung: \n\nWer bin ich?\nWas will ich??\nWie überzeuge ich?\n\nInhalt \n\n\n\nWir erkunden gemeinsam Ihre Stärken\, machen mit Ihnen eine Entdeckungsreise in dieVergangenheit\, welche Träume Sie hatten\, welche Stärken\, auch außerberufliche Sie entwickelthaben\, welche Interessen Sie verfolgt haben\, aber nicht getraut haben\, daraus ein berufliches Zielzu machen.\nWir beleuchten ihre gegenwärtige berufliche Situation\, analysieren das Arbeitsumfeld\, dieArbeitsumgebung\, Ihre Erfolge\, Motivationsgründe und Werte.\nWir sprechen über Ihre Träume und Visionen und was Ihnen für die Zukunft wichtig ist.\nWir erarbeiten anhand einer Nutzenargumentation die für Sie passende berufliche Alternativen.\nSelbstverständlich sprechen wir auch über marktgängige und aktuelle Bewerbungsunterlagen und Strategien. Sie lernen außerdem\, wie Sie die Onlinebusinessnetzwerke für die Stellen suchenutzen könnten.\n\n\n\nTermine\, Ort und Kosten \nDrei Termine stehen zur Auswahl:01./02.03.2024\, 07./08.06.2024\, 11./12.10.2024jeweils Freitag 17-20 Uhr und Samstag 10-15 Uhr in Stuttgart. \nKosten je Termin und Teilnehmer: 480 Euro inkl. der gesetzlichen Mehrwertsteuer \nAnmeldunginfo@perlenfein-karrierreakademie.demobil: +49 711 489085 22 \nReferenten \nPetra Perlenfein \nDownload PDF \nWie finde ich schnell einen Job. 2025pdf
URL:https://perlenfein-karriereakademie.de/seminar/wie-finde-ich-schnell-einen-passenden-job-6/
LOCATION:Raum Stuttgart\, Heidehofstraße 21\, Stuttgart\, Baden-Württemberg\, 70184\, Deutschland
END:VEVENT
BEGIN:VEVENT
DTSTART;TZID=Europe/Berlin:20251024T080000
DTEND;TZID=Europe/Berlin:20251024T170000
DTSTAMP:20260420T203748
CREATED:20250107T131645Z
LAST-MODIFIED:20250107T131722Z
UID:3268-1761292800-1761325200@perlenfein-karriereakademie.de
SUMMARY:Trennungsgespräche wertschätzend führen
DESCRIPTION:Gibt es schlimme Gespräche als Personalverantwortlicher? \nJa\, das Trennungsgespräch ist das herausforderndste Krisengespräch\, vor dass sich die meisten Führungskräfte und Personalverantwortliche scheuen\, denn: \nSie wissen\, dass Sie einerseits den betroffenen Mitarbeiter in eine Existenzangst stürzen\, anderseits entsteht eine Hilflosigkeit im Umgang mit den auftretenden Emotionen. Sie schwanken zwischen Härte\, Mitgefühl und Auftrag seitens der Unternehmensleitung und eigenen Ängsten. \nWie können Sie es dennoch professionell und wertschätzend führen\, so dass beide Seiten ihr Gesicht wahren und aus dieser Krise eine Chance für den Betroffenen wird? \nIn diesem Workshop erfahren Sie \n\n\n\neinerseits theoretische Aspekte rund um das Thema Kommunikation\, „Führen von schwierigen Gesprächen“ und Trennungssituation\, ebenso\nerhalten Sie praktische Tipps bei der Umsetzung des Trennungsgesprächs.\nwie Sie mit den Emotionen des Gegenübers umgehen können\n\n\n\nInhalte \n\nAllgemeines zum Umgang mit Trennungen und Veränderungen\nDer Trennungsprozess\nDas Trennungsgespräch: Vorbereitung des äußeren Rahmens\nIm Trennungsgespräch: Umgang mit Emotionen\nDas Trennungsgespräch: Vorbereitung und Durchführung persönlicher Unterredungen\n\n\n\n\nIhr Nutzen \nEin Trennungsgespräch\, was wertschätzend geführt worden ist bietet für beide Seiten Chancen. \n\nKosten durch aufwendige Gerichtsprozesse werden verhindert\n„Man sieht sich im Leben zweimal“. Eine Rufschädigung wird verhindert.\nSchlechte Bewertungen auf Bewertungsportalen werden verhindert\nEin Trennungsgespräch wertschätzend geführt ist ein Zeichen einer wertschätzenden Unternehmenskultur.\nEs gibt keine Eskalation im Gespräch.\nEmotionale Distanz bei Ihnen und Ihrem Mitarbeiter\nEbenbürtiger Umgang miteinander\nWenn im Rahmen der Aufhebungsvereinbarung eine Outplacementberatung zusätzlich zur Abfindung angeboten wird\, erhält der Gekündigte schnell wieder eine neue Stelle.\n\nZielgruppen \nPersonalverantwortliche\, Führungskräfte\, Geschäftsführer\, Betriebsräte \nTermine\, Ort und Kosten \nDrei Termine stehen zur Auswahl:15.03.2025; 04.07.2025 oder 24.10.2025\, jeweils Stuttgart\, 17-20 UhrKosten pro Termin und Teilnehmer: 270 Euro zzgl. der gesetzlichen Mehrwertsteuer\, Stuttgart \nAnmeldunginfo@perlenfein-karrierreakademie.demobil: +49 711 489085 22 \nReferenten \nPetra Perlenfein und ein Personalverantwortlicher \nDownload PDF \nTrennungsgespräche wertschätzende führen 2025
URL:https://perlenfein-karriereakademie.de/seminar/trennungsgespraeche-wertschaetzend-fuehren-10/
LOCATION:Raum Stuttgart\, Heidehofstraße 21\, Stuttgart\, Baden-Württemberg\, 70184\, Deutschland
END:VEVENT
END:VCALENDAR