BEGIN:VCALENDAR
VERSION:2.0
PRODID:-//Petra Perlenfein Karriereakademie Stuttgart - ECPv6.15.20//NONSGML v1.0//EN
CALSCALE:GREGORIAN
METHOD:PUBLISH
X-ORIGINAL-URL:https://perlenfein-karriereakademie.de
X-WR-CALDESC:Veranstaltungen für Petra Perlenfein Karriereakademie Stuttgart
REFRESH-INTERVAL;VALUE=DURATION:PT1H
X-Robots-Tag:noindex
X-PUBLISHED-TTL:PT1H
BEGIN:VTIMEZONE
TZID:Europe/Berlin
BEGIN:DAYLIGHT
TZOFFSETFROM:+0100
TZOFFSETTO:+0200
TZNAME:CEST
DTSTART:20240331T010000
END:DAYLIGHT
BEGIN:STANDARD
TZOFFSETFROM:+0200
TZOFFSETTO:+0100
TZNAME:CET
DTSTART:20241027T010000
END:STANDARD
BEGIN:DAYLIGHT
TZOFFSETFROM:+0100
TZOFFSETTO:+0200
TZNAME:CEST
DTSTART:20250330T010000
END:DAYLIGHT
BEGIN:STANDARD
TZOFFSETFROM:+0200
TZOFFSETTO:+0100
TZNAME:CET
DTSTART:20251026T010000
END:STANDARD
BEGIN:DAYLIGHT
TZOFFSETFROM:+0100
TZOFFSETTO:+0200
TZNAME:CEST
DTSTART:20260329T010000
END:DAYLIGHT
BEGIN:STANDARD
TZOFFSETFROM:+0200
TZOFFSETTO:+0100
TZNAME:CET
DTSTART:20261025T010000
END:STANDARD
END:VTIMEZONE
BEGIN:VEVENT
DTSTART;TZID=Europe/Berlin:20250509T170000
DTEND;TZID=Europe/Berlin:20250510T150000
DTSTAMP:20260421T055121
CREATED:20250107T133111Z
LAST-MODIFIED:20250107T133406Z
UID:3280-1746810000-1746889200@perlenfein-karriereakademie.de
SUMMARY:Wie finde ich schnell einen passenden Job?
DESCRIPTION:  \n\nSie beschäftigen sich mit einer beruflichen Neuorientierung?\nSie stehen vor einer beruflichen Veränderung?\nSie sind mit Ihrem alten Job nicht mehr zufrieden?\nSie sind Berufseinsteiger\, und wissen nicht\, wie Sie sich vermarkten sollen?\nSie wissen nicht\, welcher beruflicher Schritt als nächstes ansteht?\nSie sind unsicher\, ob Ihre Fähigkeiten für eine neue Stelle ausreichen?\n\nWenn Sie sich bei den Fragen wiederfinden\, sind Sie bei unserem Workshop „Wie finde ich schnell einen passenden Job“ richtig. \nMit den drei „W“ finden Sie eine neue berufliche Orientierung: \n\nWer bin ich?\nWas will ich??\nWie überzeuge ich?\n\nInhalt \n\n\n\nWir erkunden gemeinsam Ihre Stärken\, machen mit Ihnen eine Entdeckungsreise in dieVergangenheit\, welche Träume Sie hatten\, welche Stärken\, auch außerberufliche Sie entwickelthaben\, welche Interessen Sie verfolgt haben\, aber nicht getraut haben\, daraus ein berufliches Zielzu machen.\nWir beleuchten ihre gegenwärtige berufliche Situation\, analysieren das Arbeitsumfeld\, dieArbeitsumgebung\, Ihre Erfolge\, Motivationsgründe und Werte.\nWir sprechen über Ihre Träume und Visionen und was Ihnen für die Zukunft wichtig ist.\nWir erarbeiten anhand einer Nutzenargumentation die für Sie passende berufliche Alternativen.\nSelbstverständlich sprechen wir auch über marktgängige und aktuelle Bewerbungsunterlagen und Strategien. Sie lernen außerdem\, wie Sie die Onlinebusinessnetzwerke für die Stellen suchenutzen könnten.\n\n\n\nTermine\, Ort und Kosten \nDrei Termine stehen zur Auswahl:01./02.03.2024\, 07./08.06.2024\, 11./12.10.2024jeweils Freitag 17-20 Uhr und Samstag 10-15 Uhr in Stuttgart. \nKosten je Termin und Teilnehmer: 480 Euro inkl. der gesetzlichen Mehrwertsteuer \nAnmeldunginfo@perlenfein-karrierreakademie.demobil: +49 711 489085 22 \nReferenten \nPetra Perlenfein \nDownload PDF \nWie finde ich schnell einen Job. 2025pdf
URL:https://perlenfein-karriereakademie.de/seminar/wie-finde-ich-schnell-einen-passenden-job-5/
LOCATION:Raum Stuttgart\, Heidehofstraße 21\, Stuttgart\, Baden-Württemberg\, 70184\, Deutschland
END:VEVENT
BEGIN:VEVENT
DTSTART;TZID=Europe/Berlin:20250517T100000
DTEND;TZID=Europe/Berlin:20250517T160000
DTSTAMP:20260421T055121
CREATED:20250107T123428Z
LAST-MODIFIED:20250107T125615Z
UID:3233-1747476000-1747497600@perlenfein-karriereakademie.de
SUMMARY:Berufliche Neuorientierung in der Lebensmitte
DESCRIPTION:Sie sind gefühlt in der Mitte Ihres Lebens angekommen?\nPrivat und beruflich unzufrieden?\nDie Kinder sind aus dem Haus?\nAlles beruflich erreicht? Aber ausgelaugt und motivationslos?\nOder Angst\, wie es weitergeht aufgrund der wirtschaftlichen Krise?\n\nDie Fragen führen zu einer beruflichen Neuorientierung in der Lebensmittel \n\nWie will ich nun mein Leben gestalten?\nWas mache ich vor allem beruflich?\n\nDer Workshop richtet sich \n\nüberwiegend an Personen\, die vor einem beruflichen und / oder auch privatenNeuanfang stehen\nPersonen\, die die nächsten Jahre etwas anderes beruflich machen möchten\nPersonen\, die ihr Leben nach ihren eigenen Vorstellungen gestalten wollen\nPersonen\, die sich verändern wollen\, aber nicht trauen\nPersonen\, die aus gesundheitlichen Gründen sich neu orientieren wollen\nPersonen\, die vor der Rente stehen\n\nInhalte \n\nBerufliche Standortbestimmung mit der Analyse des beruflichen Werdegangs inkl. Stärken und Erfolge incl. der außerberuflichen Interessen\, Stärken und Erfolge\nMotivation und Werte\nVisionsarbeit\nGestaltung der beruflichen Zukunft in Einklang mit den privaten Lebensumständen\nErmittlung von beruflichen Alternativen\n\nTermine\, Ort und Kosten \nDrei Termine stehen zur Auswahl:25.01.2025\, 17.05.205\, 22.11.2025 jeweils 10 -16.00 Uhr in Stuttgart.Kosten je Termin und Teilnehmer: 290 Euro inkl. der gesetzlichen Mehrwertsteuer \nAnmeldung \ninfo@perlenfein-karrierreakademie.demobil: +49 711 489085 22 \nReferenten \nPetra Perlenfein \nDownload PDF \nBerufliche Neuorientierung in der Lebensmitte 2025
URL:https://perlenfein-karriereakademie.de/seminar/berufliche-neuorientierung-in-der-lebensmitte-5/
LOCATION:Raum Stuttgart\, Heidehofstraße 21\, Stuttgart\, Baden-Württemberg\, 70184\, Deutschland
END:VEVENT
BEGIN:VEVENT
DTSTART;TZID=Europe/Berlin:20250524T100000
DTEND;TZID=Europe/Berlin:20250524T160000
DTSTAMP:20260421T055121
CREATED:20250107T130030Z
LAST-MODIFIED:20250107T130358Z
UID:3252-1748080800-1748102400@perlenfein-karriereakademie.de
SUMMARY:Richtig im Vorstellungsgespräch überzeugen
DESCRIPTION:Im Internet und in der Literatur gibt es sehr viele Tipps und Anregungen\, wie man am bestenim Vorstellungsgespräch überzeugt. Exemplarische Fragen und Antworten werdenbesprochen\, was man am besten auf eine Frage antwortet.Egal\, ob das Vorstellungsgespräch online oder persönlich ist.Nur\, sind diese Anregungen und Tipps auf jeden einzelnen Jobsuchenden und Bewerberübertragbar? Braucht es hier nicht individuelle Antworten? \nIn diesem Workshop erhalten Sie passgenaue\, auf Sie individuell abgestimmte Antworten. \nInhalt des Workshops \n\nErarbeitung des persönlichen Werbespots und Elevator Pitches:\n\nWer bin ich? Was habe ich gemacht und erreicht? Was will ich?\n\n\nSituation des persönlichen Vorstellungsgesprächs\nBesonderheiten des Online Vorstellungsgespräches\nVorbereitung\, Fragen und Antworten im Vorstellungsgespräch\nNachbereitung des Vorstellungsgespräches\n\nMethoden \n\n\n\n\n\nEinzelvortrag\nEinzel- und Gruppenarbeit sowie Rollenspiele (freiwillig)\n\n\n\n\n\nTermine\, Ort und Kosten \nDrei Termine stehen zur Auswahl:22.02.2025\, 24.05.2025\, 15.11.2025 jeweils 10 -16.00 Uhr in Stuttgart.Kosten je Termin und Teilnehmer: 290 Euro inkl. der gesetzlichen Mehrwertsteuer \nAnmeldunginfo@perlenfein-karrierreakademie.demobil: +49 711 489085 22 \nReferenten \nPetra Perlenfein \nDownload PDF \nRichtig überzeugen im Vorstellungsgespräch 2025
URL:https://perlenfein-karriereakademie.de/seminar/richtig-im-vorstellungsgespraech-ueberzeugen-2/
LOCATION:Raum Stuttgart\, Heidehofstraße 21\, Stuttgart\, Baden-Württemberg\, 70184\, Deutschland
END:VEVENT
END:VCALENDAR