BEGIN:VCALENDAR
VERSION:2.0
PRODID:-//Petra Perlenfein Karriereakademie Stuttgart - ECPv6.15.20//NONSGML v1.0//EN
CALSCALE:GREGORIAN
METHOD:PUBLISH
X-WR-CALNAME:Petra Perlenfein Karriereakademie Stuttgart
X-ORIGINAL-URL:https://perlenfein-karriereakademie.de
X-WR-CALDESC:Veranstaltungen für Petra Perlenfein Karriereakademie Stuttgart
REFRESH-INTERVAL;VALUE=DURATION:PT1H
X-Robots-Tag:noindex
X-PUBLISHED-TTL:PT1H
BEGIN:VTIMEZONE
TZID:Europe/Berlin
BEGIN:DAYLIGHT
TZOFFSETFROM:+0100
TZOFFSETTO:+0200
TZNAME:CEST
DTSTART:20230326T010000
END:DAYLIGHT
BEGIN:STANDARD
TZOFFSETFROM:+0200
TZOFFSETTO:+0100
TZNAME:CET
DTSTART:20231029T010000
END:STANDARD
BEGIN:DAYLIGHT
TZOFFSETFROM:+0100
TZOFFSETTO:+0200
TZNAME:CEST
DTSTART:20240331T010000
END:DAYLIGHT
BEGIN:STANDARD
TZOFFSETFROM:+0200
TZOFFSETTO:+0100
TZNAME:CET
DTSTART:20241027T010000
END:STANDARD
BEGIN:DAYLIGHT
TZOFFSETFROM:+0100
TZOFFSETTO:+0200
TZNAME:CEST
DTSTART:20250330T010000
END:DAYLIGHT
BEGIN:STANDARD
TZOFFSETFROM:+0200
TZOFFSETTO:+0100
TZNAME:CET
DTSTART:20251026T010000
END:STANDARD
END:VTIMEZONE
BEGIN:VEVENT
DTSTART;TZID=Europe/Berlin:20240720T100000
DTEND;TZID=Europe/Berlin:20240720T163000
DTSTAMP:20260420T163046
CREATED:20240123T163739Z
LAST-MODIFIED:20240123T163745Z
UID:3091-1721469600-1721493000@perlenfein-karriereakademie.de
SUMMARY:Berufliche Neuorientierung in der Lebensmitte
DESCRIPTION:Sie sind gefühlt in der Mitte Ihres Lebens angekommen?\nPrivat und beruflich unzufrieden?\nDie Kinder sind aus dem Haus?\nAlles beruflich erreicht? Aber ausgelaugt und motivationslos?\n\nDie Fragen führen zu einer beruflichen Neuorientierung in der Lebensmittel \n\nWie will ich nun mein Leben gestalten?\nWas mache ich vor allem beruflich?\n\nFühlen Sie sich angesprochen? \nWenn ja\, sind Sie in unserem Workshop richtig. \nEs ist jetzt Ihre Chance\, Ihr Leben nach Ihren eigenen Vorstellungen zu gestalten. \nDer Workshop richtet sich \n\nüberwiegend an Personen\, die vor einem beruflichen und / oder auch privatenNeuanfang stehen\nPersonen\, die die nächsten Jahre etwas anderes beruflich machen möchten\nPersonen\, die ihr Leben nach ihren eigenen Vorstellungen gestalten wollen\nPersonen\, die sich verändern wollen\, aber nicht trauen\nPersonen\, die aus gesundheitlichen Gründen sich neu orientieren wollen\n\nInhalte \n\nBerufliche Standortbestimmung\nAnalyse des beruflichen Werdegangs inkl. Stärken und Erfolge\nErmittlung von außerberuflichen Interessen\, Stärken und Erfolge\nMotivation und Werte\nVisionsarbeit\nGestaltung der beruflichen Zukunft in Einklang mit den privaten Lebensumständen\nErmittlung von beruflichen Alternativen\nDer neue Weg als Chance\n\nTermine\, Ort und Kosten \nDrei Termine stehen zur Auswahl:16.03.2024\, 20.07.2024\, 26.10.2024 jeweils 10 -16.30 Uhr in Stuttgart.Kosten je Termin und Teilnehmer: 270 Euro inkl. der gesetzlichen Mehrwertsteuer \nAnmeldunginfo@perlenfein-karrierreakademie.demobil: +49 711 489085 22 \nReferenten \nPetra Perlenfein und ein Personalverantwortlicher \nDownload PDF \nBerufliche Neuorientierung in der Lebensmitte
URL:https://perlenfein-karriereakademie.de/seminar/berufliche-neuorientierung-in-der-lebensmitte-2/
LOCATION:Raum Stuttgart\, Heidehofstraße 21\, Stuttgart\, Baden-Württemberg\, 70184\, Deutschland
END:VEVENT
END:VCALENDAR